BEGIN:VCALENDAR
CALSCALE:GREGORIAN
BEGIN:VEVENT
DTSTAMP:20230610T221338Z
DTSTART:20230610T090000Z
DTEND:20230610T160000Z
SUMMARY:CØLLECTIVE (R)EVOLUTION here we go for the 6th Edition
UID:502142f3-fa69-4702-ae49-08cac77711ca
LOCATION:Bd du Théâtre\, 1204 Genève\, Suisse
X-ALT-DESC;FMTTYPE=text/html:
END:VEVENT
END:VCALENDAR
