BEGIN:VCALENDAR
CALSCALE:GREGORIAN
BEGIN:VEVENT
DTSTAMP:20230610T221426Z
DTSTART:20230607T120000Z
DTEND:20230607T140000Z
SUMMARY:DragQueer Storytime pour enfants avec Cris P. Chilli
UID:67d729d3-5da8-482c-a455-2eed50f7f71c
LOCATION:Rue de Carouge 52\, 1205 Genève\, Suisse
X-ALT-DESC;FMTTYPE=text/html:
END:VEVENT
END:VCALENDAR
