BEGIN:VCALENDAR
CALSCALE:GREGORIAN
BEGIN:VEVENT
DTSTAMP:20230610T221407Z
DTSTART:20230609T101500Z
DTEND:20230609T111500Z
SUMMARY:Expo presse gaie
UID:685dc115-9f60-4320-b85c-12a9bbdf8a96
LOCATION:Rte de Drize 7\, 1227 Carouge\, Suisse
X-ALT-DESC;FMTTYPE=text/html:
END:VEVENT
END:VCALENDAR
