BEGIN:VCALENDAR
CALSCALE:GREGORIAN
BEGIN:VEVENT
DTSTAMP:20230610T221401Z
DTSTART:20230609T160000Z
DTEND:20230609T170000Z
SUMMARY:Luca Leone
UID:6198e5b4-0df2-4c32-b262-81f6ace4a733
LOCATION:Prom. des Bastions\, 1205 Genève\, Suisse
X-ALT-DESC;FMTTYPE=text/html:
END:VEVENT
END:VCALENDAR
