BEGIN:VCALENDAR
CALSCALE:GREGORIAN
BEGIN:VEVENT
DTSTAMP:20230610T221438Z
DTSTART:20230607T150000Z
DTEND:20230607T154500Z
SUMMARY:Lutine et la fôret de l'intimité
UID:61cf400f-97b6-4b6f-ad52-5d8a24e3fb6b
LOCATION:Rue de Carouge 52\, 1205 Genève\, Suisse
X-ALT-DESC;FMTTYPE=text/html:
END:VEVENT
END:VCALENDAR
