BEGIN:VCALENDAR
CALSCALE:GREGORIAN
BEGIN:VEVENT
DTSTAMP:20230610T221418Z
DTSTART:20350705T020000Z
DTEND:20350705T060000Z
SUMMARY:4th of July BBQ
UID:6aac6031-0ff5-4503-b7b7-08268da4cd4b
LOCATION:500 Terry A Francois Blvd\, San Francisco\, CA 94158\, USA
DESCRIPTION:Thank you for registering to our event!\n\nWe're looking forward to seeing you there.\n\nHere are the event details:\n\n4th of July BBQ\n4 juillet 2035 à 19:00\n500 Terry A Francois Blvd\, 500 Terry A Francois Blvd\, San Francisco\, CA 94158\, USA
X-ALT-DESC;FMTTYPE=text/html:Thank you for registering to our event!\n\nWe're looking forward to seeing you there.\n\nHere are the event details:<br>4th of July BBQ\n4 juillet 2035 à 19:00\n500 Terry A Francois Blvd\, 500 Terry A Francois Blvd\, San Francisco\, CA 94158\, USA
END:VEVENT
END:VCALENDAR
