BEGIN:VCALENDAR
CALSCALE:GREGORIAN
BEGIN:VEVENT
DTSTAMP:20230610T221323Z
DTSTART:20230605T090000Z
DTEND:20230605T160000Z
SUMMARY:CØLLECTIVE (R)EVOLUTION here we go for the 6th Edition
UID:6c514c7d-72a7-42f3-a7ef-a51238204ed7
LOCATION:Bd du Théâtre\, 1204 Genève\, Suisse
X-ALT-DESC;FMTTYPE=text/html:
END:VEVENT
END:VCALENDAR
