BEGIN:VCALENDAR
CALSCALE:GREGORIAN
BEGIN:VEVENT
DTSTAMP:20230610T221431Z
DTSTART:20350610T120000Z
DTEND:20350610T160000Z
SUMMARY:Marche des Fiertés
UID:6e6df22b-ca00-4fe0-9b38-3a4a3fbc3496
LOCATION:Quai Wilson\, Genève\, Switzerland
X-ALT-DESC;FMTTYPE=text/html:
END:VEVENT
END:VCALENDAR
