BEGIN:VCALENDAR
CALSCALE:GREGORIAN
BEGIN:VEVENT
DTSTAMP:20230610T221433Z
DTSTART:20230608T170000Z
DTEND:20230608T183000Z
SUMMARY:Tango Queer
UID:6fddd70f-2357-4119-9a43-064f3f601493
LOCATION:Rue de Carouge 52\, 1205 Genève\, Suisse
X-ALT-DESC;FMTTYPE=text/html:
END:VEVENT
END:VCALENDAR
