BEGIN:VCALENDAR
CALSCALE:GREGORIAN
BEGIN:VEVENT
DTSTAMP:20230610T221342Z
DTSTART:20230610T153000Z
DTEND:20230610T160000Z
SUMMARY:Les Genevoix
UID:7a44df1a-7dfd-43cd-b95b-a2b23937054c
LOCATION:Prom. des Bastions\, 1205 Genève\, Suisse
X-ALT-DESC;FMTTYPE=text/html:
END:VEVENT
END:VCALENDAR
