BEGIN:VCALENDAR
CALSCALE:GREGORIAN
BEGIN:VEVENT
DTSTAMP:20230610T221307Z
DTSTART:20230610T175000Z
DTEND:20230610T190000Z
SUMMARY:Corine
UID:7a810660-5e05-4cd7-a979-dfa70001f634
LOCATION:Prom. des Bastions\, 1205 Genève\, Suisse
X-ALT-DESC;FMTTYPE=text/html:
END:VEVENT
END:VCALENDAR
