BEGIN:VCALENDAR
CALSCALE:GREGORIAN
BEGIN:VEVENT
DTSTAMP:20230610T214628Z
DTSTART:20230610T230000Z
DTEND:20230611T010000Z
SUMMARY:Barbarabutch
UID:7e5c1fb8-9571-463e-a0f4-b26f886a53aa
LOCATION:Rue du Stand 3BIS\, 1204 Genève\, Suisse
X-ALT-DESC;FMTTYPE=text/html:
END:VEVENT
END:VCALENDAR
