BEGIN:VCALENDAR
CALSCALE:GREGORIAN
BEGIN:VEVENT
DTSTAMP:20230610T221412Z
DTSTART:20230606T170000Z
DTEND:20230606T190000Z
SUMMARY:Projection du film/ documentaire "Le Point sur les I"
UID:81a456c3-ef1e-4075-b0ef-601e89247b23
LOCATION:Rue de Carouge 52\, 1205 Genève\, Suisse
X-ALT-DESC;FMTTYPE=text/html:
END:VEVENT
END:VCALENDAR
