BEGIN:VCALENDAR
CALSCALE:GREGORIAN
BEGIN:VEVENT
DTSTAMP:20230610T214808Z
DTSTART:20230610T191000Z
DTEND:20230611T204500Z
SUMMARY:DJ Annie Jay
UID:836e41fc-228b-4929-b0e3-0c8e05281650
LOCATION:Prom. des Bastions\, 1205 Genève\, Suisse
X-ALT-DESC;FMTTYPE=text/html:
END:VEVENT
END:VCALENDAR
