BEGIN:VCALENDAR
CALSCALE:GREGORIAN
BEGIN:VEVENT
DTSTAMP:20230610T214809Z
DTSTART:20230610T210000Z
DTEND:20230611T040000Z
SUMMARY:PRIDE RIDE : soirée de clôture officielle de la Pride
UID:8dd6832d-95e4-4d61-b8b9-4aad778c26ab
LOCATION:Rue du Stand 3BIS\, 1204 Genève\, Suisse
X-ALT-DESC;FMTTYPE=text/html:
END:VEVENT
END:VCALENDAR
