BEGIN:VCALENDAR
CALSCALE:GREGORIAN
BEGIN:VEVENT
DTSTAMP:20230610T221316Z
DTSTART:20230608T160000Z
DTEND:20230609T160000Z
SUMMARY:Nous
UID:9777e9b9-5bf5-43a3-bfe2-9fe73d609156
LOCATION:Rue de Carouge 52\, 1205 Genève\, Suisse
X-ALT-DESC;FMTTYPE=text/html:
END:VEVENT
END:VCALENDAR
