BEGIN:VCALENDAR
CALSCALE:GREGORIAN
BEGIN:VEVENT
DTSTAMP:20230610T221422Z
DTSTART:20230607T163000Z
DTEND:20230607T173000Z
SUMMARY:Nouveautés dans le traitement du VIH : thérapies injectables actuelles et du futur !
UID:9187e5d2-4839-46d1-87af-07cd3a8ec57d
LOCATION:Rue de Carouge 52\, 1205 Genève\, Suisse
X-ALT-DESC;FMTTYPE=text/html:
END:VEVENT
END:VCALENDAR
