BEGIN:VCALENDAR
CALSCALE:GREGORIAN
BEGIN:VEVENT
DTSTAMP:20230610T221449Z
DTSTART:20230606T140000Z
DTEND:20230609T000000Z
SUMMARY:Café des Fiertés
UID:91a838e1-ab8d-4b60-a133-b752173d522c
LOCATION:Rue de Carouge 52\, 1205 Genève\, Switzerland
X-ALT-DESC;FMTTYPE=text/html:
END:VEVENT
END:VCALENDAR
