BEGIN:VCALENDAR
CALSCALE:GREGORIAN
BEGIN:VEVENT
DTSTAMP:20230611T031041Z
DTSTART:20230607T120000Z
DTEND:20230608T150000Z
SUMMARY:Après-midi enfants et familles
UID:92f6f369-3cf5-4adf-8611-b1cf76189680
LOCATION:Rue de Carouge 52\, 1205 Genève\, Suisse
X-ALT-DESC;FMTTYPE=text/html:
END:VEVENT
END:VCALENDAR
