BEGIN:VCALENDAR
CALSCALE:GREGORIAN
BEGIN:VEVENT
DTSTAMP:20230610T221351Z
DTSTART:20230606T150000Z
DTEND:20230606T214500Z
SUMMARY:Summer & Domino's bar
UID:9305b858-ebf7-4885-85f3-3d57e060a4bd
LOCATION:Rue de Carouge 52\, 1205 Genève\, Suisse
X-ALT-DESC;FMTTYPE=text/html:
END:VEVENT
END:VCALENDAR
