BEGIN:VCALENDAR
CALSCALE:GREGORIAN
BEGIN:VEVENT
DTSTAMP:20230610T221443Z
DTSTART:20230606T160000Z
DTEND:20230606T200000Z
SUMMARY:Atelier de cuisine
UID:a5dca57b-231e-4937-a2a6-70088241fd7c
LOCATION:rue des Minoteries 3\, 1205 Genève\, Suisse
X-ALT-DESC;FMTTYPE=text/html:
END:VEVENT
END:VCALENDAR
