BEGIN:VCALENDAR
CALSCALE:GREGORIAN
BEGIN:VEVENT
DTSTAMP:20230610T221442Z
DTSTART:20230608T150000Z
DTEND:20230608T222000Z
SUMMARY:Summer & Domino's bar
UID:aadbd20b-cab5-422e-be5c-c844cbea5e44
LOCATION:Rue de Carouge 52\, 1205 Genève\, Suisse
X-ALT-DESC;FMTTYPE=text/html:
END:VEVENT
END:VCALENDAR
