BEGIN:VCALENDAR
CALSCALE:GREGORIAN
BEGIN:VEVENT
DTSTAMP:20230610T221337Z
DTSTART:20230606T150000Z
DTEND:20230609T000000Z
SUMMARY:Summer and Domino's bar
UID:ad67ec11-f432-423d-b90b-cb9a7485f5b8
LOCATION:Rue de Carouge 52\, 1205 Genève\, Suisse
X-ALT-DESC;FMTTYPE=text/html:
END:VEVENT
END:VCALENDAR
