BEGIN:VCALENDAR
CALSCALE:GREGORIAN
BEGIN:VEVENT
DTSTAMP:20230610T221416Z
DTSTART:20230608T150000Z
DTEND:20230609T180000Z
SUMMARY:Atelier make-up Drag king
UID:b875b159-6e64-4946-95b4-58abfe0234e1
LOCATION:Rue de Carouge 52\, 1205 Genève\, Suisse
X-ALT-DESC;FMTTYPE=text/html:
END:VEVENT
END:VCALENDAR
