BEGIN:VCALENDAR
CALSCALE:GREGORIAN
BEGIN:VEVENT
DTSTAMP:20230610T221323Z
DTSTART:20230608T090000Z
DTEND:20230608T160000Z
SUMMARY:CØLLECTIVE (R)EVOLUTION here we go for the 6th Edition
UID:cff8476e-cd43-4953-8be3-62869d0e9ed0
LOCATION:Bd du Théâtre\, 1204 Genève\, Suisse
X-ALT-DESC;FMTTYPE=text/html:
END:VEVENT
END:VCALENDAR
