BEGIN:VCALENDAR
CALSCALE:GREGORIAN
BEGIN:VEVENT
DTSTAMP:20230610T221345Z
DTSTART:20230609T163000Z
DTEND:20230609T180000Z
SUMMARY:Célébration inclusive « Geneva Pride 2023 »
UID:e90f6ce2-ae6f-425f-8042-882d626b6172
LOCATION:Rue des Terreaux-du-Temple 12\, 1201 Genève\, Suisse
X-ALT-DESC;FMTTYPE=text/html:
END:VEVENT
END:VCALENDAR
