BEGIN:VCALENDAR
CALSCALE:GREGORIAN
BEGIN:VEVENT
DTSTAMP:20230610T214809Z
DTSTART:20230610T204500Z
DTEND:20230611T214500Z
SUMMARY:Le Temple
UID:e1971423-ecc6-45fc-88d2-d95fefa0611e
LOCATION:Prom. des Bastions\, 1205 Genève\, Suisse
X-ALT-DESC;FMTTYPE=text/html:
END:VEVENT
END:VCALENDAR
