BEGIN:VCALENDAR
CALSCALE:GREGORIAN
BEGIN:VEVENT
DTSTAMP:20230610T221425Z
DTSTART:20230608T210000Z
DTEND:20230609T000000Z
SUMMARY:DJ Joanna Soulas (soirée Disco Poppers)
UID:f81c9da4-b51f-4334-80c7-e78407ccdd34
LOCATION:Rue de Carouge 52\, 1205 Genève\, Suisse
X-ALT-DESC;FMTTYPE=text/html:
END:VEVENT
END:VCALENDAR
