BEGIN:VCALENDAR
CALSCALE:GREGORIAN
BEGIN:VEVENT
DTSTAMP:20230610T221402Z
DTSTART:20230610T164000Z
DTEND:20230610T173000Z
SUMMARY:Silance
UID:f0ac8ec0-7213-4026-9cd4-3e8ca62d8844
LOCATION:Prom. des Bastions\, 1205 Genève\, Suisse
X-ALT-DESC;FMTTYPE=text/html:
END:VEVENT
END:VCALENDAR
