BEGIN:VCALENDAR
CALSCALE:GREGORIAN
BEGIN:VEVENT
DTSTAMP:20230610T221335Z
DTSTART:20230607T150000Z
DTEND:20230607T214500Z
SUMMARY:Summer & Domino's bar
UID:fdced53c-363a-48cb-8e0f-8888bdba8c88
LOCATION:Rue de Carouge 52\, 1205 Genève\, Suisse
X-ALT-DESC;FMTTYPE=text/html:
END:VEVENT
END:VCALENDAR
