BEGIN:VCALENDAR
CALSCALE:GREGORIAN
BEGIN:VEVENT
DTSTAMP:20230610T221407Z
DTSTART:20230609T150000Z
DTEND:20230610T215000Z
SUMMARY:Village des Fiertés 
UID:febf955f-6e72-47bc-88f6-16704c72f602
LOCATION:Prom. des Bastions\, 1205 Genève\, Switzerland
X-ALT-DESC;FMTTYPE=text/html:
END:VEVENT
END:VCALENDAR
