BEGIN:VCALENDAR
CALSCALE:GREGORIAN
BEGIN:VEVENT
DTSTAMP:20230610T214817Z
DTSTART:20230610T210000Z
DTEND:20230610T230000Z
SUMMARY:Miss GagaElle
UID:ffae0371-e762-4496-8be8-07ef4e262952
LOCATION:Rue du Stand 3BIS\, 1204 Genève\, Suisse
X-ALT-DESC;FMTTYPE=text/html:
END:VEVENT
END:VCALENDAR
