BEGIN:VCALENDAR
CALSCALE:GREGORIAN
BEGIN:VEVENT
DTSTAMP:20231022T063118Z
DTSTART:20201028T140000Z
DTEND:20201028T150000Z
SUMMARY:Webinaire: Découvrez la boîte à outils: Travail décent pour un approvisionnement durable
UID:04307c3b-11e1-47bf-9971-726a4d8c9c45
LOCATION:
DESCRIPTION:Thank you for registering to our event!\n\nWe're looking forward to seeing you there.\n\nHere are the event details:\n\nWebinaire: Découvrez la boîte à outils: Travail décent pour un approvisionnement durable\n28 October 2020\, 15:00–16:00\nWebinar
X-ALT-DESC;FMTTYPE=text/html:Thank you for registering to our event!\n\nWe're looking forward to seeing you there.\n\nHere are the event details:<br>Webinaire: Découvrez la boîte à outils: Travail décent pour un approvisionnement durable\n28 October 2020\, 15:00–16:00\nWebinar
END:VEVENT
END:VCALENDAR
