BEGIN:VCALENDAR
CALSCALE:GREGORIAN
BEGIN:VEVENT
DTSTAMP:20231022T054319Z
DTSTART:20231107T090000Z
DTEND:20231107T103000Z
SUMMARY:Sharing & Learning: Climate Action in the Value Chain
UID:052c0932-a78f-4806-8d5e-dca5cdf61ca9
LOCATION:
DESCRIPTION:Thank you for registering to our event "Sharing & Learning: Climate Mitigation".\n\nWe're looking forward to seeing you there.\n\nJoin Zoom Meeting\nhttps://us02web.zoom.us/j/88619800095\nMeeting-ID: 886 1980 0095\n\n\nHere are the event details:\n\nSharing & Learning: Climate Action in the Value Chain\n7 November 2023\, 10:00–11:30\nWebinar
X-ALT-DESC;FMTTYPE=text/html:Thank you for registering to our event "Sharing & Learning: Climate Mitigation".\n\nWe're looking forward to seeing you there.\n\nJoin Zoom Meeting\nhttps://us02web.zoom.us/j/88619800095\nMeeting-ID: 886 1980 0095\n\n\nHere are the event details:<br>Sharing & Learning: Climate Action in the Value Chain\n7 November 2023\, 10:00–11:30\nWebinar
END:VEVENT
END:VCALENDAR
