BEGIN:VCALENDAR
CALSCALE:GREGORIAN
BEGIN:VEVENT
DTSTAMP:20231022T063017Z
DTSTART:20200615T060000Z
DTEND:20200616T171500Z
SUMMARY:UN Global Compact Leaders Summit 2020
UID:05985d57-9266-4e13-bf5a-04154af73212
LOCATION:
DESCRIPTION:Thank you for registering to our event!\n\nWe're looking forward to seeing you there.\n\nHere are the event details:\n\nUN Global Compact Leaders Summit 2020\n15 June 2020 at 08:00 – 16 June 2020 at 19:15\nUNGC Leaders Summit
X-ALT-DESC;FMTTYPE=text/html:Thank you for registering to our event!\n\nWe're looking forward to seeing you there.\n\nHere are the event details:<br>UN Global Compact Leaders Summit 2020\n15 June 2020 at 08:00 – 16 June 2020 at 19:15\nUNGC Leaders Summit
END:VEVENT
END:VCALENDAR
