BEGIN:VCALENDAR
CALSCALE:GREGORIAN
BEGIN:VEVENT
DTSTAMP:20231022T062758Z
DTSTART:20210316T140000Z
DTEND:20210317T020000Z
SUMMARY:Target Gender Equality Live
UID:067e216a-264b-409c-a163-3f0f4a84c9b2
LOCATION:
X-ALT-DESC;FMTTYPE=text/html:
END:VEVENT
END:VCALENDAR
