BEGIN:VCALENDAR
CALSCALE:GREGORIAN
BEGIN:VEVENT
DTSTAMP:20231022T063024Z
DTSTART:20210602T120000Z
DTEND:20210602T131500Z
SUMMARY:Global Compact Netzwerk Deutschland: Wie sorgen Unternehmen strategisch für mehr Vielfalt?
UID:021ec8c7-9ad2-45ce-9b57-5b73c9ff188a
LOCATION:
X-ALT-DESC;FMTTYPE=text/html:
END:VEVENT
END:VCALENDAR
