BEGIN:VCALENDAR
CALSCALE:GREGORIAN
BEGIN:VEVENT
DTSTAMP:20231022T062845Z
DTSTART:20220610T120000Z
DTEND:20220610T160000Z
SUMMARY:Governance der Nachhaltigkeit
UID:02b335d0-99e5-4adb-a759-8945c5854895
LOCATION:Zürich\, Switzerland
X-ALT-DESC;FMTTYPE=text/html:
END:VEVENT
END:VCALENDAR
