BEGIN:VCALENDAR
CALSCALE:GREGORIAN
BEGIN:VEVENT
DTSTAMP:20231022T063411Z
DTSTART:20220906T080000Z
DTEND:20220907T090000Z
SUMMARY:Due diligence (Dovuta diligenza) in materia di diritti umani – requisiti crescenti e nuovi obblighi per le aziende
UID:02c8554c-0db3-4c4f-b197-90ddbcc33511
LOCATION:
X-ALT-DESC;FMTTYPE=text/html:
END:VEVENT
END:VCALENDAR
