BEGIN:VCALENDAR
CALSCALE:GREGORIAN
BEGIN:VEVENT
DTSTAMP:20231022T062953Z
DTSTART:20210429T143000Z
DTEND:20210429T153000Z
SUMMARY:Cobalt Artisanal and Small-Scale Mining (ASM) in the DRC
UID:02f1cc25-8c65-4041-b6c9-1cead3942f17
LOCATION:
DESCRIPTION:Thank you for registering to our event "Cobalt Artisanal and Small-Scale Mining (ASM) in the DRC".\n\nWe're looking forward to seeing you there.\n\nJoin Zoom Meeting\nhttps://us02web.zoom.us/j/83929247023\n\nMeeting ID: 839 2924 7023\n\nDial in according to current location (Switzerland):\n+41 44 529 92 72\n+41 22 591 00 05\n+41 22 591 01 56\n+41 31 528 09 88\n+41 43 210 70 42\n+41 43 210 71 08\nOther locations: https://us02web.zoom.us/u/kc7FZabPlf\n\nIf you have any questions or need to cancel your registration\, please reply to this Email.\n\nYour Global Compact Network Switzerland & Liechtenstein Secretariat\n\n\n\n\nHere are the event details:\n\nCobalt Artisanal and Small-Scale Mining (ASM) in the DRC\n29 April 2021\, 16:30–17:30 CEST\nOnline Event
X-ALT-DESC;FMTTYPE=text/html:Thank you for registering to our event "Cobalt Artisanal and Small-Scale Mining (ASM) in the DRC".\n\nWe're looking forward to seeing you there.\n\nJoin Zoom Meeting\nhttps://us02web.zoom.us/j/83929247023\n\nMeeting ID: 839 2924 7023\n\nDial in according to current location (Switzerland):\n+41 44 529 92 72\n+41 22 591 00 05\n+41 22 591 01 56\n+41 31 528 09 88\n+41 43 210 70 42\n+41 43 210 71 08\nOther locations: https://us02web.zoom.us/u/kc7FZabPlf\n\nIf you have any questions or need to cancel your registration\, please reply to this Email.\n\nYour Global Compact Network Switzerland & Liechtenstein Secretariat\n\n\n\n\nHere are the event details:<br>Cobalt Artisanal and Small-Scale Mining (ASM) in the DRC\n29 April 2021\, 16:30–17:30 CEST\nOnline Event
END:VEVENT
END:VCALENDAR
