BEGIN:VCALENDAR
CALSCALE:GREGORIAN
BEGIN:VEVENT
DTSTAMP:20231022T063400Z
DTSTART:20210609T130000Z
DTEND:20210609T141500Z
SUMMARY:Global Compact Netzwerk Deutschland: Webinarreihe Die Sustainable Development Goals in der Unternehmenspraxis (Teil 2)
UID:0cf2aa8f-d619-4d8d-8a7a-3ba7a23036aa
LOCATION:
X-ALT-DESC;FMTTYPE=text/html:
END:VEVENT
END:VCALENDAR
