BEGIN:VCALENDAR
CALSCALE:GREGORIAN
BEGIN:VEVENT
DTSTAMP:20231022T063359Z
DTSTART:20210504T120000Z
DTEND:20210504T133000Z
SUMMARY:Human Rights Due Diligence Step 4 - Embedding and integrating Human Rights Due Diligence in processes
UID:15be7dee-b47a-4efd-89a0-a559b97d52c6
LOCATION:
DESCRIPTION:Thank you for registering to our event "Human Rights Due Diligence Step 4 - Embedding and integrating Human Rights Due Diligence in processe".\n\nWe're looking forward to seeing you there.\n\nJoin Teams Meeting\nhttps://bit.ly/3pTjWVS\n\nIf you have any questions or need to cancel your participation\, please reply to this Email.\n\nYour Global Compact Network Switzerland & Liechtenstein Secretariat\n\n\n\nHere are the event details:\n\nHuman Rights Due Diligence Step 4 - Embedding and integrating Human Rights Due Diligence in processes\n4 May 2021\, 14:00–15:30 CEST\nOnline Event
X-ALT-DESC;FMTTYPE=text/html:Thank you for registering to our event "Human Rights Due Diligence Step 4 - Embedding and integrating Human Rights Due Diligence in processe".\n\nWe're looking forward to seeing you there.\n\nJoin Teams Meeting\nhttps://bit.ly/3pTjWVS\n\nIf you have any questions or need to cancel your participation\, please reply to this Email.\n\nYour Global Compact Network Switzerland & Liechtenstein Secretariat\n\n\n\nHere are the event details:<br>Human Rights Due Diligence Step 4 - Embedding and integrating Human Rights Due Diligence in processes\n4 May 2021\, 14:00–15:30 CEST\nOnline Event
END:VEVENT
END:VCALENDAR
