BEGIN:VCALENDAR
CALSCALE:GREGORIAN
BEGIN:VEVENT
DTSTAMP:20231022T063102Z
DTSTART:20230510T173000Z
DTEND:20230510T183000Z
SUMMARY:Nachhaltigkeit als innovatives Geschäftsmodell für Apotheken und Drogerien: Grundlagen\, Herausforderungen und Chancen
UID:100d5328-b9e4-4d54-847c-5d366a3952ca
LOCATION:
DESCRIPTION:Vielen Dank für Ihre Anmeldung zu unserer Veranstaltung  "Webinarserie: Nachhaltigkeit als innovatives Geschäftsmodell für Apotheken und Drogerien: Grundlagen\, Herausforderungen und Chancen".\n\nWir freuen uns auf Ihre Teilnahme.\n\nHier gelangen Sie zum Zoom Meeting:\nhttps://us02web.zoom.us/j/87877988323\n\nMeeting ID: 878 7798 8323\n\nBitte testen Sie den Link vor dem Event\, um sich mit der Verwendung von Zoom vertraut zu machen.\n\nWenn Sie Fragen haben oder Ihre Anmeldung stornieren möchten\, antworten Sie bitte auf diese E-Mail.\n\nIhr Global Compact Netzwerk Schweiz & Liechtenstein Sekretariat\n\n\nEventdetails:\n\nNachhaltigkeit als innovatives Geschäftsmodell für Apotheken und Drogerien: Grundlagen\, Herausforderungen und Chancen\n10 May 2023\, 19:30–20:30\nWebinar
X-ALT-DESC;FMTTYPE=text/html:Vielen Dank für Ihre Anmeldung zu unserer Veranstaltung  "Webinarserie: Nachhaltigkeit als innovatives Geschäftsmodell für Apotheken und Drogerien: Grundlagen\, Herausforderungen und Chancen".\n\nWir freuen uns auf Ihre Teilnahme.\n\nHier gelangen Sie zum Zoom Meeting:\nhttps://us02web.zoom.us/j/87877988323\n\nMeeting ID: 878 7798 8323\n\nBitte testen Sie den Link vor dem Event\, um sich mit der Verwendung von Zoom vertraut zu machen.\n\nWenn Sie Fragen haben oder Ihre Anmeldung stornieren möchten\, antworten Sie bitte auf diese E-Mail.\n\nIhr Global Compact Netzwerk Schweiz & Liechtenstein Sekretariat\n\n\nEventdetails:<br>Nachhaltigkeit als innovatives Geschäftsmodell für Apotheken und Drogerien: Grundlagen\, Herausforderungen und Chancen\n10 May 2023\, 19:30–20:30\nWebinar
END:VEVENT
END:VCALENDAR
