BEGIN:VCALENDAR
CALSCALE:GREGORIAN
BEGIN:VEVENT
DTSTAMP:20231022T063222Z
DTSTART:20210629T120000Z
DTEND:20210629T133000Z
SUMMARY:Human Rights Due Diligence Step 6 - Grievance and remedy mechanisms
UID:11716e8f-4c5f-43fe-9ced-7ad1f8c602ce
LOCATION:
DESCRIPTION:Thank you for registering to our event "Human Rights Due Diligence Step 6 - Grievance and remedy mechanisms".\n\nWe're looking forward to seeing you there.\n\nJoin Teams Meeting\nhttps://bit.ly/2YEefiE\n\nIf you have any questions or need to cancel your participation\, please reply to this Email.\n\nYour Global Compact Network Switzerland & Liechtenstein Secretariat\n\n\n\nHere are the event details:\n\nHuman Rights Due Diligence Step 6 - Grievance and remedy mechanisms\n29 June 2021\, 14:00–15:30 CEST\nOnline Event
X-ALT-DESC;FMTTYPE=text/html:Thank you for registering to our event "Human Rights Due Diligence Step 6 - Grievance and remedy mechanisms".\n\nWe're looking forward to seeing you there.\n\nJoin Teams Meeting\nhttps://bit.ly/2YEefiE\n\nIf you have any questions or need to cancel your participation\, please reply to this Email.\n\nYour Global Compact Network Switzerland & Liechtenstein Secretariat\n\n\n\nHere are the event details:<br>Human Rights Due Diligence Step 6 - Grievance and remedy mechanisms\n29 June 2021\, 14:00–15:30 CEST\nOnline Event
END:VEVENT
END:VCALENDAR
