BEGIN:VCALENDAR
CALSCALE:GREGORIAN
BEGIN:VEVENT
DTSTAMP:20231022T054320Z
DTSTART:20231121T090000Z
DTEND:20231121T103000Z
SUMMARY:Sharing & Learning: Adaptation to Climate Change
UID:13ad0c01-e8f3-448f-82f3-c9c5c305cb4b
LOCATION:
DESCRIPTION:Thank you for registering to our event "Sharing & Learning: Adaptation to Climate Change".\n\nWe're looking forward to seeing you there.\n\nJoin Zoom Meeting\nhttps://us02web.zoom.us/j/81045154626\nMeeting-ID: 810 4515 4626\n\n\nHere are the event details:\n\nSharing & Learning: Adaptation to Climate Change\n21 November 2023\, 10:00–11:30\nWebinar
X-ALT-DESC;FMTTYPE=text/html:Thank you for registering to our event "Sharing & Learning: Adaptation to Climate Change".\n\nWe're looking forward to seeing you there.\n\nJoin Zoom Meeting\nhttps://us02web.zoom.us/j/81045154626\nMeeting-ID: 810 4515 4626\n\n\nHere are the event details:<br>Sharing & Learning: Adaptation to Climate Change\n21 November 2023\, 10:00–11:30\nWebinar
END:VEVENT
END:VCALENDAR
