BEGIN:VCALENDAR
CALSCALE:GREGORIAN
BEGIN:VEVENT
DTSTAMP:20231022T062948Z
DTSTART:20210330T120000Z
DTEND:20210330T133000Z
SUMMARY:Elaborating a Communication on Progress (COP)
UID:1a75ea39-8d0b-4d7f-b67f-a84eb99e1f32
LOCATION:
DESCRIPTION:Thank you for registering to our event "Elaborating a Communication on Progress (COP)".\n\nWe're looking forward to seeing you there.\n\nJoin Zoom Meeting\nhttps://us02web.zoom.us/j/81945082537\n\nMeeting ID: 819 4508 2537\n\nDial in according to current location (Switzerland):\n+41 44 529 92 72\n+41 22 591 00 05\n+41 22 591 01 56\n+41 31 528 09 88\n+41 43 210 70 42\n+41 43 210 71 08\nOther locations: https://us02web.zoom.us/u/kc7FZabPlf\n\nIf you have any questions or need to cancel your registration\, please reply to this Email.\n\nYour Global Compact Network Switzerland & Liechtenstein Secretariat\n\n\n\n\nHere are the event details:\n\nElaborating a Communication on Progress (COP)\n30 March 2021\, 14:00–15:30 CEST\nOnline Event
X-ALT-DESC;FMTTYPE=text/html:Thank you for registering to our event "Elaborating a Communication on Progress (COP)".\n\nWe're looking forward to seeing you there.\n\nJoin Zoom Meeting\nhttps://us02web.zoom.us/j/81945082537\n\nMeeting ID: 819 4508 2537\n\nDial in according to current location (Switzerland):\n+41 44 529 92 72\n+41 22 591 00 05\n+41 22 591 01 56\n+41 31 528 09 88\n+41 43 210 70 42\n+41 43 210 71 08\nOther locations: https://us02web.zoom.us/u/kc7FZabPlf\n\nIf you have any questions or need to cancel your registration\, please reply to this Email.\n\nYour Global Compact Network Switzerland & Liechtenstein Secretariat\n\n\n\n\nHere are the event details:<br>Elaborating a Communication on Progress (COP)\n30 March 2021\, 14:00–15:30 CEST\nOnline Event
END:VEVENT
END:VCALENDAR
