BEGIN:VCALENDAR
CALSCALE:GREGORIAN
BEGIN:VEVENT
DTSTAMP:20231022T060901Z
DTSTART:20230623T140000Z
DTEND:20230623T153000Z
SUMMARY:Mit dem UN Global Compact nachhaltig wirtschaften
UID:1a9ac0f0-8d17-4d97-bc0f-1b827025f4f9
LOCATION:Landstrasse 16\, 9494 Schaan\, Liechtenstein
X-ALT-DESC;FMTTYPE=text/html:
END:VEVENT
END:VCALENDAR
