BEGIN:VCALENDAR
CALSCALE:GREGORIAN
BEGIN:VEVENT
DTSTAMP:20231022T063045Z
DTSTART:20210520T110000Z
DTEND:20210520T153000Z
SUMMARY:COP and sustainability reporting - development of a roadmap
UID:1e39dc3d-4b86-4a9e-9534-28769ab44e48
LOCATION:
DESCRIPTION:Thank you for registering to our event "COP and sustainability reporting - development of a roadmap".\n\nWe're looking forward to seeing you there.\n\nJoin Zoom Meeting\nhttps://us02web.zoom.us/j/88131283584\n\nMeeting ID: 881 3128 3584\n\nDial in according to current location (Switzerland):\n+41 44 529 92 72\n+41 22 591 00 05\n+41 22 591 01 56\n+41 31 528 09 88\n+41 43 210 70 42\n+41 43 210 71 08\nOther locations: https://us02web.zoom.us/u/kc7FZabPlf\n\nIf you have any questions or need to cancel your registration\, please reply to this Email.\n\nYour Global Compact Network Switzerland & Liechtenstein Secretariat\n\n\n\n\nHere are the event details:\n\nCOP and sustainability reporting - development of a roadmap\n20 May 2021\, 13:00–17:30 CEST\nOnline Event
X-ALT-DESC;FMTTYPE=text/html:Thank you for registering to our event "COP and sustainability reporting - development of a roadmap".\n\nWe're looking forward to seeing you there.\n\nJoin Zoom Meeting\nhttps://us02web.zoom.us/j/88131283584\n\nMeeting ID: 881 3128 3584\n\nDial in according to current location (Switzerland):\n+41 44 529 92 72\n+41 22 591 00 05\n+41 22 591 01 56\n+41 31 528 09 88\n+41 43 210 70 42\n+41 43 210 71 08\nOther locations: https://us02web.zoom.us/u/kc7FZabPlf\n\nIf you have any questions or need to cancel your registration\, please reply to this Email.\n\nYour Global Compact Network Switzerland & Liechtenstein Secretariat\n\n\n\n\nHere are the event details:<br>COP and sustainability reporting - development of a roadmap\n20 May 2021\, 13:00–17:30 CEST\nOnline Event
END:VEVENT
END:VCALENDAR
