BEGIN:VCALENDAR
CALSCALE:GREGORIAN
BEGIN:VEVENT
DTSTAMP:20231022T063209Z
DTSTART:20220825T130000Z
DTEND:20220825T140000Z
SUMMARY:Preparing for the new Communication on Progress coming in 2023 (1/2)
UID:2428d0ac-371e-4605-8a9a-8d11e4f3ef8a
LOCATION:
X-ALT-DESC;FMTTYPE=text/html:
END:VEVENT
END:VCALENDAR
