BEGIN:VCALENDAR
CALSCALE:GREGORIAN
BEGIN:VEVENT
DTSTAMP:20231022T063223Z
DTSTART:20230208T140000Z
DTEND:20230209T140000Z
SUMMARY:New CoP Live Demonstration
UID:24883020-5cf1-434d-bddf-7f5793759288
LOCATION:
X-ALT-DESC;FMTTYPE=text/html:
END:VEVENT
END:VCALENDAR
